BEGIN:VCALENDAR
VERSION:2.0
PRODID:-//https://learningcenter.simgdigital.it/it//IT
BEGIN:VEVENT
CALSCALE:GREGORIAN
METHOD:PUBLISH
UID:f939aa88fa958a09148c8e6109a15495
LOCATION:
DESCRIPTION:Competenze “Pratiche” per la presa in carico del Paziente Complesso
URL: 
DTSTAMP:1776609067
DTSTART:20251017T120000
DTEND:20251017T163000
SUMMARY:Competenze “Pratiche” per la presa in carico del Paziente Complesso
END:VEVENT
END:VCALENDAR