BEGIN:VCALENDAR
VERSION:2.0
PRODID:-//https://learningcenter.simgdigital.it/it//IT
BEGIN:VEVENT
CALSCALE:GREGORIAN
METHOD:PUBLISH
UID:1dbafdadf5fb6386b6f95753f229c5f0
LOCATION:
DESCRIPTION:FOCUS SUL DOLORE NEUROPATICO: UN NUOVO APPROCCIO DIAGNOSTICO E TERAPEUTICO
URL: 
DTSTAMP:1776625804
DTSTART:20251011T084500
DTEND:20251011T133000
SUMMARY:FOCUS SUL DOLORE NEUROPATICO: UN NUOVO APPROCCIO DIAGNOSTICO E TERAPEUTICO
END:VEVENT
END:VCALENDAR