BEGIN:VCALENDAR
VERSION:2.0
PRODID:-//https://learningcenter.simgdigital.it/it//IT
BEGIN:VEVENT
CALSCALE:GREGORIAN
METHOD:PUBLISH
UID:3c42b578b0ebfba2945beb4554895bf6
LOCATION:
DESCRIPTION:ACCADEMIA SIMG VACCINI
URL: 
DTSTAMP:1776760332
DTSTART:20240621T141500
DTEND:20240621T153000
SUMMARY:ACCADEMIA SIMG VACCINI
END:VEVENT
END:VCALENDAR