BEGIN:VCALENDAR
VERSION:2.0
PRODID:-//https://learningcenter.simgdigital.it/it//IT
BEGIN:VEVENT
CALSCALE:GREGORIAN
METHOD:PUBLISH
UID:a64cb1d80dfbe2c9c9d0ede8135fe316
LOCATION:
DESCRIPTION:CONGRESSO REGIONALE SIMG LOMBARDIA - La Medicina Generale e le Cure Primarie 4.0
URL: 
DTSTAMP:1776958900
DTSTART:20240525T093000
DTEND:20240525T181500
SUMMARY:CONGRESSO REGIONALE SIMG LOMBARDIA
END:VEVENT
END:VCALENDAR