BEGIN:VCALENDAR
VERSION:2.0
PRODID:-//https://learningcenter.simgdigital.it/it//IT
BEGIN:VEVENT
CALSCALE:GREGORIAN
METHOD:PUBLISH
UID:0c8ebad0c7cd0ff35456cb19575d16a6
LOCATION:
DESCRIPTION:SHIELD “SCREENING AND HOLISTIC INTERVENTION FOR EARLY USE OF GLIFLOZININ DIABETES
URL: 
DTSTAMP:1776765908
DTSTART:20251108T093000
DTEND:20251108T133000
SUMMARY:Shield \"Screening and Holistic Intervention for Early use of gLiflozin in Diabetes\"
END:VEVENT
END:VCALENDAR